BEGIN:VCALENDAR
VERSION:2.0
PRODID:KKTIX
CALSCALE:GREGORIAN
METHOD:PUBLISH
BEGIN:VTIMEZONE
TZID:Asia/Taipei
END:VTIMEZONE
BEGIN:VEVENT
DTSTAMP:20260423T145530Z
UID:b3baf84e-868a-49bb-a4b3-1e5da2d7c68b
DTSTART:20260607T003000Z
DTEND:20260607T140000Z
CLASS:PUBLIC
DESCRIPTION:https://wnbftaiwan.kktix.cc/events/dda52860
LOCATION: (台北市中山區植福路8號) 台北大直典華宴會廳6F
SUMMARY:2026 WNBF TAIWAN Asia Diamond Cup 國際自然健美邀請賽
END:VEVENT
END:VCALENDAR
